BEGIN:VCALENDAR
VERSION:2.0
PRODID:-//RickeySmiley.com - ECPv6.15.20//NONSGML v1.0//EN
CALSCALE:GREGORIAN
METHOD:PUBLISH
X-ORIGINAL-URL:https://rickeysmiley.com
X-WR-CALDESC:Events for RickeySmiley.com
REFRESH-INTERVAL;VALUE=DURATION:PT1H
X-Robots-Tag:noindex
X-PUBLISHED-TTL:PT1H
BEGIN:VTIMEZONE
TZID:America/New_York
BEGIN:DAYLIGHT
TZOFFSETFROM:-0500
TZOFFSETTO:-0400
TZNAME:EDT
DTSTART:20250309T070000
END:DAYLIGHT
BEGIN:STANDARD
TZOFFSETFROM:-0400
TZOFFSETTO:-0500
TZNAME:EST
DTSTART:20251102T060000
END:STANDARD
BEGIN:DAYLIGHT
TZOFFSETFROM:-0500
TZOFFSETTO:-0400
TZNAME:EDT
DTSTART:20260308T070000
END:DAYLIGHT
BEGIN:STANDARD
TZOFFSETFROM:-0400
TZOFFSETTO:-0500
TZNAME:EST
DTSTART:20261101T060000
END:STANDARD
BEGIN:DAYLIGHT
TZOFFSETFROM:-0500
TZOFFSETTO:-0400
TZNAME:EDT
DTSTART:20270314T070000
END:DAYLIGHT
BEGIN:STANDARD
TZOFFSETFROM:-0400
TZOFFSETTO:-0500
TZNAME:EST
DTSTART:20271107T060000
END:STANDARD
END:VTIMEZONE
BEGIN:VEVENT
DTSTART;VALUE=DATE:20260508
DTEND;VALUE=DATE:20260510
DTSTAMP:20260424T111613
CREATED:20260313T212140Z
LAST-MODIFIED:20260313T212140Z
UID:10002238-1778198400-1778371199@rickeysmiley.com
SUMMARY:Atlanta\, GA: Rickey Smiley Live
DESCRIPTION:
URL:https://rickeysmiley.com/event/atlanta-ga-rickey-smiley-live/
LOCATION:Helium Comedy Club Atlanta\, 3070 Windward Plaza\, Alpharetta\, GA\, United States
ATTACH;FMTTYPE=image/jpeg:https://rickeysmiley.com/wp-content/uploads/2026/03/RS-Live-Atlanta-05.08.26-05.09.26.jpg
END:VEVENT
BEGIN:VEVENT
DTSTART;VALUE=DATE:20260510
DTEND;VALUE=DATE:20260511
DTSTAMP:20260424T111613
CREATED:20260331T082952Z
LAST-MODIFIED:20260331T082952Z
UID:10002240-1778371200-1778457599@rickeysmiley.com
SUMMARY:Hattiesburg\, MS: Rickey Smiley Live
DESCRIPTION:
URL:https://rickeysmiley.com/event/hattiesburg-ms-rickey-smiley-live/
LOCATION:Hattiesburg Saenger Theater\, 201 Forrest Street\, Hattiesburg\, MS\, 39401\, United States
ATTACH;FMTTYPE=image/jpeg:https://rickeysmiley.com/wp-content/uploads/2026/03/RS-Live-Hattiesburg-MS-05.10.26-1.jpg
END:VEVENT
BEGIN:VEVENT
DTSTART;VALUE=DATE:20260619
DTEND;VALUE=DATE:20260620
DTSTAMP:20260424T111613
CREATED:20260301T010042Z
LAST-MODIFIED:20260403T201917Z
UID:10002236-1781827200-1781913599@rickeysmiley.com
SUMMARY:Coral Springs\, FL: Rickey Smiley Live
DESCRIPTION:
URL:https://rickeysmiley.com/event/coral-springs-fl-rickey-smiley-live/
LOCATION:Coral Springs Center For The Arts\, 2855 Coral Springs Drive\, Coral Springs\, FL\, 33065\, United States
ATTACH;FMTTYPE=image/jpeg:https://rickeysmiley.com/wp-content/uploads/2026/02/RS-Coral-Springs-FL-06.19.26.jpg
END:VEVENT
BEGIN:VEVENT
DTSTART;VALUE=DATE:20260801
DTEND;VALUE=DATE:20260802
DTSTAMP:20260424T111613
CREATED:20251119T153225Z
LAST-MODIFIED:20260224T193856Z
UID:10002230-1785542400-1785628799@rickeysmiley.com
SUMMARY:Sag Harbor\, NY: 4th Annual Black Authors Festival
DESCRIPTION:
URL:https://rickeysmiley.com/event/sag-harbor-ny-4th-annual-black-authors-festival/
LOCATION:Breakwater Yacht Club\, 51 Bay Street\, Sag Harbor\, NY\, 11963
ATTACH;FMTTYPE=image/jpeg:https://rickeysmiley.com/wp-content/uploads/2025/11/RS-Sag-Harbor-NY-08.01.26-1-scaled.jpg
END:VEVENT
BEGIN:VEVENT
DTSTART;VALUE=DATE:20261026
DTEND;VALUE=DATE:20261102
DTSTAMP:20260424T111613
CREATED:20260322T025619Z
LAST-MODIFIED:20260417T145832Z
UID:10002239-1792972800-1793577599@rickeysmiley.com
SUMMARY:One Voyage Cruise 2026
DESCRIPTION:
URL:https://rickeysmiley.com/event/2026-fantastic-voyage-cruise/
LOCATION:GA
ATTACH;FMTTYPE=image/png:https://rickeysmiley.com/wp-content/uploads/2026/03/Screenshot-2026-03-21-at-8.17.14-PM.png
END:VEVENT
END:VCALENDAR